BEGIN:VCALENDAR
VERSION:2.0
PRODID:-//hacksw/handcal//NONSGML v1.0//EN
BEGIN:VEVENT
SUMMARY:Entrainement
UID:22d7033e-01de-4a62-afc8-480e408891f0
DTSTART:20260223T090000Z
DTEND:20260223T130000Z
LOCATION:Localisation   
CATEGORIES:Entrainement
STATUS:
DESCRIPTION:Entrainement pour toutes les equipes afin de preparer les
 prochains matchs.
URL;VALUE=URI:https://mini-elan.sportsregions.fr/evenements/2026/02/23/entrainement-2419641
END:VEVENT
BEGIN:VEVENT
SUMMARY:Match
UID:13f36316-d936-47e3-9e20-53b3056f4a5d
DTSTART:20260223T090000Z
DTEND:20260223T130000Z
LOCATION:Localisation   
CATEGORIES:Sportif
STATUS:
DESCRIPTION:<p>Le match d’aujourd’hui s'est termine sur une belle
 victoire de notre equipe 89-73.</p><p>Le club remonte au classement.
 Prochaine rencontre la semaine prochaine.</p>
URL;VALUE=URI:https://mini-elan.sportsregions.fr/evenements/2026/02/23/match-2419640
END:VEVENT
END:VCALENDAR
